BEGIN:VCALENDAR
VERSION:2.0
PRODID:-//Christ the King Anglican Church - ECPv1.0//NONSGML v1.0//EN
CALSCALE:GREGORIAN
METHOD:PUBLISH
X-WR-CALNAME:Christ the King Anglican Church
X-ORIGINAL-URL:https://www.centralcoastanglicans.org
X-WR-CALDESC:Events for Christ the King Anglican Church
BEGIN:VEVENT
DTSTART;VALUE=DATE-TIME:20260403T020000Z
DTEND;VALUE=DATE-TIME:20260403T030000Z
DTSTAMP:20260423T121714
UID:2476-1775181600-1775185200@https://www.centralcoastanglicans.org
SUMMARY:Maundy Thursday
DESCRIPTION:Eucharist in remembrance of the institution of the Lord's supper followed by the stripping of the altar.
LOCATION:Christ the King Anglican Church, 555 S. 13th St., Ste. G, Grover Beach, CA 93445
END:VEVENT
BEGIN:VEVENT
DTSTART;VALUE=DATE-TIME:20260404T020000Z
DTEND;VALUE=DATE-TIME:20260404T030000Z
DTSTAMP:20260423T121714
UID:2477-1775268000-1775271600@https://www.centralcoastanglicans.org
SUMMARY:Good Friday
DESCRIPTION:Stations of the Cross in commemoration of the crucifixion of Jesus Christ
LOCATION:Christ the King Anglican Church, 555 S. 13th St., Ste. G, Grover Beach, CA 93445
END:VEVENT
BEGIN:VEVENT
DTSTART;VALUE=DATE-TIME:20260405T030000Z
DTEND;VALUE=DATE-TIME:20260405T050000Z
DTSTAMP:20260423T121714
UID:2479-1775358000-1775365200@https://www.centralcoastanglicans.org
SUMMARY:Holy Saturday Vigil
DESCRIPTION:Traditional Easter vigil including:\nlighting of the Pascal candle\nBlessing of the font\nRenewal of Baptismal Vows\nThe 1st Eucharist of Easter
LOCATION:Christ the King Anglican Church, 555 S. 13th St., Ste. G, Grover Beach, CA 93445
END:VEVENT
BEGIN:VEVENT
DTSTART;VALUE=DATE-TIME:20260405T173000Z
DTEND;VALUE=DATE-TIME:20260405T190000Z
DTSTAMP:20260423T121714
UID:2480-1775410200-1775415600@https://www.centralcoastanglicans.org
SUMMARY:Easter Sunday
DESCRIPTION:Easter Sunday worship.\nHe is Risen Indeed!
LOCATION:Christ the King Anglican Church, 555 S. 13th St., Ste. G, Grover Beach, CA 93445
END:VEVENT
BEGIN:VEVENT
DTSTART;VALUE=DATE-TIME:20260412T173000Z
DTEND;VALUE=DATE-TIME:20260412T190000Z
DTSTAMP:20260423T121714
UID:2481-1776015000-1776020400@https://www.centralcoastanglicans.org
SUMMARY:The 1st Sunday after Easter
DESCRIPTION:Weekly Sunday Morning worship followed by parish potluck.
LOCATION:Christ the King Anglican Church, 555 S. 13th St., Ste. G, Grover Beach, CA 93445
END:VEVENT
BEGIN:VEVENT
DTSTART;VALUE=DATE-TIME:20260419T173000Z
DTEND;VALUE=DATE-TIME:20260419T190000Z
DTSTAMP:20260423T121714
UID:2482-1776619800-1776625200@https://www.centralcoastanglicans.org
SUMMARY:The 2nd Sunday after Easter
DESCRIPTION:Weekly Sunday Morning worship followed by parish potluck.
LOCATION:Christ the King Anglican Church, 555 S. 13th St., Ste. G, Grover Beach, CA 93445
END:VEVENT
BEGIN:VEVENT
DTSTART;VALUE=DATE-TIME:20260426T173000Z
DTEND;VALUE=DATE-TIME:20260426T190000Z
DTSTAMP:20260423T121714
UID:2483-1777224600-1777230000@https://www.centralcoastanglicans.org
SUMMARY:The 3rd Sunday after Easter
DESCRIPTION:Weekly Sunday Morning worship followed by parish potluck.
LOCATION:Christ the King Anglican Church, 555 S. 13th St., Ste. G, Grover Beach, CA 93445
END:VEVENT
END:VCALENDAR